BEGIN:VCALENDAR
VERSION:2.0
PRODID:-//ADDO - ECPv5.3.2//NONSGML v1.0//EN
CALSCALE:GREGORIAN
METHOD:PUBLISH
X-WR-CALNAME:ADDO
X-ORIGINAL-URL:https://addo.net.au
X-WR-CALDESC:Events for ADDO
BEGIN:VTIMEZONE
TZID:Australia/Melbourne
BEGIN:STANDARD
TZOFFSETFROM:+1100
TZOFFSETTO:+1000
TZNAME:AEST
DTSTART:20210403T160000
END:STANDARD
BEGIN:DAYLIGHT
TZOFFSETFROM:+1000
TZOFFSETTO:+1100
TZNAME:AEDT
DTSTART:20211002T160000
END:DAYLIGHT
END:VTIMEZONE
BEGIN:VEVENT
DTSTART;TZID=Australia/Melbourne:20210520T093000
DTEND;TZID=Australia/Melbourne:20210520T130000
DTSTAMP:20210226T143111
CREATED:20200618T013111Z
LAST-MODIFIED:20201112T235011Z
UID:4702-1621503000-1621515600@addo.net.au
SUMMARY:Rural Land Use Planning - Part 1: How to draft a Rural Strategy
DESCRIPTION:Rural land use planning expert Shelley McGuinness will outline how to prepare a Rural Strategy to provide guidance for rural areas within a municipality. \nThe program will outline what matters must be taken into consideration\, how a strategy should be scoped and what level of consultation might be appropriate. \nThe program will use real case studies to inform best practice. \n\nPresenters\nShelley McGuinness\, Senior Consultant\, RM Consulting Group \nCheck out Part 2 of our Rural Land Use Planning module: Principles for Assessing Applications in Rural Zones!
URL:https://addo.net.au/event/rural-land-use-planning-part-1/
LOCATION:Your computer\, A link to join the webinar will be sent to you the day prior.
CATEGORIES:All Events,Strategic and Forward Planning
END:VEVENT
END:VCALENDAR