BEGIN:VCALENDAR
VERSION:2.0
PRODID:-//ADDO - ECPv5.3.2//NONSGML v1.0//EN
CALSCALE:GREGORIAN
METHOD:PUBLISH
X-WR-CALNAME:ADDO
X-ORIGINAL-URL:https://addo.net.au
X-WR-CALDESC:Events for ADDO
BEGIN:VTIMEZONE
TZID:Australia/Melbourne
BEGIN:STANDARD
TZOFFSETFROM:+1100
TZOFFSETTO:+1000
TZNAME:AEST
DTSTART:20210403T160000
END:STANDARD
BEGIN:DAYLIGHT
TZOFFSETFROM:+1000
TZOFFSETTO:+1100
TZNAME:AEDT
DTSTART:20211002T160000
END:DAYLIGHT
END:VTIMEZONE
BEGIN:VEVENT
DTSTART;TZID=Australia/Melbourne:20211014T093000
DTEND;TZID=Australia/Melbourne:20211014T130000
DTSTAMP:20210226T141103
CREATED:20201006T234413Z
LAST-MODIFIED:20201112T234913Z
UID:5078-1634203800-1634216400@addo.net.au
SUMMARY:Existing Use Rights
DESCRIPTION:Existing use rights play an important role in town planning. They are protected by law and the planning schemes\, yet they are imbued with uncertainty and complexity. \n\nWhen are they created?\nWhat is protected?\nWhen are they subject to the planning scheme?\n\nIn this workshop\, you will learn the broad principles of existing use rights and be able to identify when\, how and how much they apply. \nPresenter:\nJohn Rantino\, Special Counsel\, Maddocks Lawyers \n 
URL:https://addo.net.au/event/existing-use-rights/
LOCATION:Your computer\, A link to join the webinar will be sent to you the day prior.
CATEGORIES:All Events,Planning Law and VCAT
END:VEVENT
END:VCALENDAR