BEGIN:VCALENDAR
VERSION:2.0
PRODID:-//ADDO - ECPv5.3.2//NONSGML v1.0//EN
CALSCALE:GREGORIAN
METHOD:PUBLISH
X-WR-CALNAME:ADDO
X-ORIGINAL-URL:https://addo.net.au
X-WR-CALDESC:Events for ADDO
BEGIN:VTIMEZONE
TZID:Australia/Melbourne
BEGIN:STANDARD
TZOFFSETFROM:+1100
TZOFFSETTO:+1000
TZNAME:AEST
DTSTART:20210403T160000
END:STANDARD
BEGIN:DAYLIGHT
TZOFFSETFROM:+1000
TZOFFSETTO:+1100
TZNAME:AEDT
DTSTART:20211002T160000
END:DAYLIGHT
END:VTIMEZONE
BEGIN:VEVENT
DTSTART;TZID=Australia/Melbourne:20211001T093000
DTEND;TZID=Australia/Melbourne:20211001T130000
DTSTAMP:20210226T141233
CREATED:20201007T000514Z
LAST-MODIFIED:20201112T234917Z
UID:5101-1633080600-1633093200@addo.net.au
SUMMARY:How to Write Planning Permit Conditions
DESCRIPTION:Drafting planning permit conditions is a fundamental part of your role as a statutory planner. \nThis course will explain the principles of drafting a ‘valid’ planning permit condition to make your conditions safe from challenge at VCAT. \nUsing case studies\, VCAT decisions\, and real world scenarios\, this course will improve your confidence and skill as a condition writer. If you are statutory planner in local government or in a referral authority\, this course is a must. \nAudience:\nStatutory planners in the public sector. \nPresenter:\nJohn Glossop\, Director\, Glossop Town Planning
URL:https://addo.net.au/event/effective-condition-writing/
LOCATION:Your computer\, A link to join the webinar will be sent to you the day prior.
CATEGORIES:All Events,Decision Making in Property and Planning
END:VEVENT
END:VCALENDAR